BEGIN:VCALENDAR
VERSION:2.0
PRODID:-//Petoskey Montessori Children&#039;s House - ECPv6.15.20//NONSGML v1.0//EN
CALSCALE:GREGORIAN
METHOD:PUBLISH
X-ORIGINAL-URL:https://petoskeymontessori.org
X-WR-CALDESC:Events for Petoskey Montessori Children&#039;s House
REFRESH-INTERVAL;VALUE=DURATION:PT1H
X-Robots-Tag:noindex
X-PUBLISHED-TTL:PT1H
BEGIN:VTIMEZONE
TZID:America/Detroit
BEGIN:DAYLIGHT
TZOFFSETFROM:-0500
TZOFFSETTO:-0400
TZNAME:EDT
DTSTART:20240310T070000
END:DAYLIGHT
BEGIN:STANDARD
TZOFFSETFROM:-0400
TZOFFSETTO:-0500
TZNAME:EST
DTSTART:20241103T060000
END:STANDARD
BEGIN:DAYLIGHT
TZOFFSETFROM:-0500
TZOFFSETTO:-0400
TZNAME:EDT
DTSTART:20250309T070000
END:DAYLIGHT
BEGIN:STANDARD
TZOFFSETFROM:-0400
TZOFFSETTO:-0500
TZNAME:EST
DTSTART:20251102T060000
END:STANDARD
BEGIN:DAYLIGHT
TZOFFSETFROM:-0500
TZOFFSETTO:-0400
TZNAME:EDT
DTSTART:20260308T070000
END:DAYLIGHT
BEGIN:STANDARD
TZOFFSETFROM:-0400
TZOFFSETTO:-0500
TZNAME:EST
DTSTART:20261101T060000
END:STANDARD
BEGIN:DAYLIGHT
TZOFFSETFROM:-0500
TZOFFSETTO:-0400
TZNAME:EDT
DTSTART:20270314T070000
END:DAYLIGHT
BEGIN:STANDARD
TZOFFSETFROM:-0400
TZOFFSETTO:-0500
TZNAME:EST
DTSTART:20271107T060000
END:STANDARD
END:VTIMEZONE
BEGIN:VEVENT
DTSTART;TZID=America/Detroit:20250925T173000
DTEND;TZID=America/Detroit:20250925T183000
DTSTAMP:20260422T225311
CREATED:20250707T154621Z
LAST-MODIFIED:20250707T155713Z
UID:1224-1758821400-1758825000@petoskeymontessori.org
SUMMARY:PMCH - Parent Education Night
DESCRIPTION:Supporting Montessori in the home
URL:https://petoskeymontessori.org/event/pmch-parent-education-night/
CATEGORIES:School Event
END:VEVENT
BEGIN:VEVENT
DTSTART;TZID=America/Detroit:20260319T173000
DTEND;TZID=America/Detroit:20260319T183000
DTSTAMP:20260422T225311
CREATED:20250707T155802Z
LAST-MODIFIED:20250707T155802Z
UID:1243-1773941400-1773945000@petoskeymontessori.org
SUMMARY:PMCH - Parent Education Night
DESCRIPTION:ASQ – Understanding Ages and Stages Questionnaire
URL:https://petoskeymontessori.org/event/pmch-parent-education-night-2/
CATEGORIES:School Event
END:VEVENT
BEGIN:VEVENT
DTSTART;VALUE=DATE:20260610
DTEND;VALUE=DATE:20260611
DTSTAMP:20260422T225311
CREATED:20250707T160317Z
LAST-MODIFIED:20250707T160326Z
UID:1253-1781049600-1781135999@petoskeymontessori.org
SUMMARY:PMCH - Last Day of School\, All Family Picnic
DESCRIPTION:Programs run all day\, picnic is at 11:30; Pre-K Grad is at noon; \nPre-K Graduation
URL:https://petoskeymontessori.org/event/pmch-last-day-of-school-all-family-picnic/
CATEGORIES:School Event
END:VEVENT
END:VCALENDAR